BEGIN:VCALENDAR
VERSION:2.0
PRODID:-//wp-events-plugin.com//7.2.3.1//EN
TZID:America/New_York
X-WR-TIMEZONE:America/New_York
BEGIN:VEVENT
UID:65@VirginiaParliamentarians.org
DTSTART;TZID=America/New_York:20260428T193000
DTEND;TZID=America/New_York:20260428T203000
DTSTAMP:20260421T002148Z
URL:https://www.VirginiaParliamentarians.org/events/voting-methods-and-rep
 orting/
SUMMARY:Voting Methods and Reporting
DESCRIPTION:Voting Methods and Reporting\nApril 28\, 2026\n7:30 PM (ET)\nht
 tps://bit.ly/47ZCXhP&nbsp\;&nbsp\;&nbsp\;
ATTACH;FMTTYPE=image/jpeg:https://www.VirginiaParliamentarians.org/wp-cont
 ent/uploads/2026/04/2026-Parliamentary-Law-Month-Workshop.png
CATEGORIES:Education
END:VEVENT
BEGIN:VTIMEZONE
TZID:America/New_York
X-LIC-LOCATION:America/New_York
BEGIN:DAYLIGHT
DTSTART:20260308T030000
TZOFFSETFROM:-0500
TZOFFSETTO:-0400
TZNAME:EDT
END:DAYLIGHT
END:VTIMEZONE
END:VCALENDAR