BEGIN:VCALENDAR
VERSION:2.0
PRODID:-//wp-events-plugin.com//7.2.3.1//EN
TZID:America/New_York
X-WR-TIMEZONE:America/New_York
BEGIN:VEVENT
UID:64@VirginiaParliamentarians.org
DTSTART;TZID=America/New_York:20260429T190000
DTEND;TZID=America/New_York:20260429T203000
DTSTAMP:20260331T211324Z
URL:https://www.VirginiaParliamentarians.org/events/sharpening-your-parlia
 mentary-skills-for-tomorrow/
SUMMARY:Sharpening Your Parliamentary Skills for Tomorrow
DESCRIPTION:April is officially recognized as Parliamentary Law Month. The 
 Northern Virginia Marching and Gavel (NOVAMAGS) Unit and the Virginia Alph
 a Unit of Registered Parliamentarians (VAURP) are partnering to present a 
 basic course on parliamentary procedure.&nbsp\;\n\n\n 	Date: Wednesday\, A
 pril 29\, 2026\n 	Time:&nbsp\;7:00 pm – 8:30 pm\n 	Focus:&nbsp\;How to m
 ake a motion\, how proper parliamentary procedure empowers every member to
  be heard\, how to discuss a motion\, protection of minority rights\, prep
 aring an agenda and ensuring the majority prevails.&nbsp\;\n\nClick here t
 o register.\n\nClick here to download the event flyer.
ATTACH;FMTTYPE=image/jpeg:https://www.VirginiaParliamentarians.org/wp-cont
 ent/uploads/2026/03/VAURP-and-NVMGSU-PARLIAMENTARY-LAW-MONTH-WORKSHOP-APRI
 L-2026.png
CATEGORIES:Education
END:VEVENT
BEGIN:VTIMEZONE
TZID:America/New_York
X-LIC-LOCATION:America/New_York
BEGIN:DAYLIGHT
DTSTART:20260308T030000
TZOFFSETFROM:-0500
TZOFFSETTO:-0400
TZNAME:EDT
END:DAYLIGHT
END:VTIMEZONE
END:VCALENDAR